BEGIN:VCALENDAR
VERSION:2.0
PRODID:-//eventon.com NONSGML v1.0//EN
CALSCALE:GREGORIAN
METHOD:PUBLISH
BEGIN:VEVENT
UID:69e748a39c5f3
DTSTAMP:20260421T095131Z
DTSTART:20240612T093000Z
DTEND:20240612T235900Z
LOCATION:Curacao 5\, 6
SUMMARY:Student Workshop: Connecting Through The Jacket
DESCRIPTION:Student Workshop: Connecting Through The Jacket\nhttps://flaffa
 .org/events/student-workshop-connecting-through-the-jacket-2/
URL:https://flaffa.org/events/student-workshop-connecting-through-the-jacket-2/
END:VEVENT
END:VCALENDAR